BEGIN:VCALENDAR
VERSION:2.0
PRODID:-//ChamberMaster//Event Calendar 2.0//EN
METHOD:PUBLISH
X-PUBLISHED-TTL:P3D
REFRESH-INTERVAL:P3D
CALSCALE:GREGORIAN
BEGIN:VEVENT
DTSTART;VALUE=DATE:20220816
DTEND;VALUE=DATE:20220817
TRANSP:TRANSPARENT
X-MICROSOFT-CDO-ALLDAYEVENT:TRUE
SUMMARY:Vision for the Future Lunch 2022
DESCRIPTION:Vision for the Future Lunch\n\nwith Dr. Brent Vidrine-MCS\, Dr. Don Coker-OPS\, & BESE Board Member Ashley Ellis\n\nTuesday\, August 16\, 2022\n\nMonroe Civic Center Banquet Hall
X-ALT-DESC;FMTTYPE=text/html:<strong><span style="font-size:20px\;">Vision for the Future Lunch<br />\nwith Dr. Brent Vidrine-MCS\, Dr. Don Coker-OPS\, &amp\; BESE Board Member Ashley Ellis<br />\nTuesday\, August 16\, 2022<br />\nMonroe Civic Center Banquet Hall</span></strong>
LOCATION:
UID:e.1999.498
SEQUENCE:3
DTSTAMP:20260422T024909Z
URL:http://monroe.chambermaster.com/events/details/vision-for-the-future-lunch-2022-498
END:VEVENT

END:VCALENDAR
