BEGIN:VCALENDAR
VERSION:2.0
PRODID:-//ChamberMaster//Event Calendar 2.0//EN
METHOD:PUBLISH
X-PUBLISHED-TTL:P3D
REFRESH-INTERVAL:P3D
CALSCALE:GREGORIAN
BEGIN:VEVENT
DTSTART:20220811T223000Z
DTEND:20220811T223000Z
X-MICROSOFT-CDO-ALLDAYEVENT:FALSE
SUMMARY:Top 20 Under 40 Awards Reception 2022
DESCRIPTION:Top 20 Under 40 Awards Reception      \n\nThursday\, August 11\, 2022\n\nMonroe Civic Center Banquet Hall \n\n5:30 p.m.
X-ALT-DESC;FMTTYPE=text/html:<strong><span style="font-size:20px\;">Top 20 Under 40 Awards Reception&nbsp\;&nbsp\;&nbsp\;&nbsp\;&nbsp\;&nbsp\;<br />\nThursday\, August 11\, 2022<br />\nMonroe Civic Center Banquet Hall&nbsp\;<br />\n5:30 p.m.&nbsp\;&nbsp\;&nbsp\;</span></strong>
LOCATION:Monroe Civic Center Banquet Hall
UID:e.1999.488
SEQUENCE:3
DTSTAMP:20260422T065234Z
URL:http://monroe.chambermaster.com/events/details/top-20-under-40-awards-reception-2022-488
END:VEVENT

END:VCALENDAR
